BEGIN:VCALENDAR

VERSION:2.0

PRODID:-//hacksw/handcal//NONSGML v1.0//EN

BEGIN:VEVENT

UID:37d18e7768cc73357c431ef2d91b8db1

DTSTAMP:20260424T192123Z

DTSTART:20260426T090000

DTEND:20260426T093000

SUMMARY:L39962186 - 19 Calala Drive, STRATHPINE QLD 4500

LOCATION:19 Calala Drive, STRATHPINE QLD 4500

END:VEVENT

END:VCALENDAR