BEGIN:VCALENDAR

VERSION:2.0

PRODID:-//hacksw/handcal//NONSGML v1.0//EN

BEGIN:VEVENT

UID:8b36960106e7655eeff224182ac915da

DTSTAMP:20260423T190624Z

DTSTART:20260426T103000

DTEND:20260426T110000

SUMMARY:L39502591 - 8/21 Woodhaven Place, MITCHELTON QLD 4053

LOCATION:8/21 Woodhaven Place, MITCHELTON QLD 4053

END:VEVENT

END:VCALENDAR