BEGIN:VCALENDAR

VERSION:2.0

PRODID:-//hacksw/handcal//NONSGML v1.0//EN

BEGIN:VEVENT

UID:2ed363118ef8a24edf4bed452c83f673

DTSTAMP:20260420T152508Z

DTSTART:20260424T120000

DTEND:20260424T123000

SUMMARY:L39502591 - 8/21 Woodhaven Place, MITCHELTON QLD 4053

LOCATION:8/21 Woodhaven Place, MITCHELTON QLD 4053

END:VEVENT

END:VCALENDAR