BEGIN:VCALENDAR

VERSION:2.0

PRODID:-//hacksw/handcal//NONSGML v1.0//EN

BEGIN:VEVENT

UID:be14a05895d0680b6c8136e4de5b2dba

DTSTAMP:20260422T111743Z

DTSTART:20260423T123000

DTEND:20260423T124500

SUMMARY:R4250083 - 4 Kerribee Place, CARINA HEIGHTS QLD 4152

LOCATION:4 Kerribee Place, CARINA HEIGHTS QLD 4152

END:VEVENT

END:VCALENDAR