BEGIN:VCALENDAR

VERSION:2.0

PRODID:-//hacksw/handcal//NONSGML v1.0//EN

BEGIN:VEVENT

UID:98a0ef49dbe9224920e26df3d6744928

DTSTAMP:20260422T095312Z

DTSTART:20260423T141500

DTEND:20260423T143000

SUMMARY:R4166627 - 56 Station View Street, MITCHELTON QLD 4053

LOCATION:56 Station View Street, MITCHELTON QLD 4053

END:VEVENT

END:VCALENDAR