BEGIN:VCALENDAR

VERSION:2.0

PRODID:-//hacksw/handcal//NONSGML v1.0//EN

BEGIN:VEVENT

UID:5d4253bc44f833076b75360d77e2acd2

DTSTAMP:20260420T152813Z

DTSTART:20260423T173000

DTEND:20260423T180000

SUMMARY:L37262997 - 23 Eppalong Street, THE GAP QLD 4061

LOCATION:23 Eppalong Street, THE GAP QLD 4061

END:VEVENT

END:VCALENDAR