BEGIN:VCALENDAR

VERSION:2.0

PRODID:-//hacksw/handcal//NONSGML v1.0//EN

BEGIN:VEVENT

UID:d97c1410c42b381dbbf54ed9f6fd504d

DTSTAMP:20260422T111743Z

DTSTART:20260423T133000

DTEND:20260423T134500

SUMMARY:R3042503 - 10 Thorpe Street, TOOWONG QLD 4066

LOCATION:10 Thorpe Street, TOOWONG QLD 4066

END:VEVENT

END:VCALENDAR