BEGIN:VCALENDAR

VERSION:2.0

PRODID:-//hacksw/handcal//NONSGML v1.0//EN

BEGIN:VEVENT

UID:78ddffb0144a6848e1fa9a4e328af28a

DTSTAMP:20260420T153348Z

DTSTART:20260422T170000

DTEND:20260422T173000

SUMMARY:L39502591 - 8/21 Woodhaven Place, MITCHELTON QLD 4053

LOCATION:8/21 Woodhaven Place, MITCHELTON QLD 4053

END:VEVENT

END:VCALENDAR