BEGIN:VCALENDAR

VERSION:2.0

PRODID:-//hacksw/handcal//NONSGML v1.0//EN

BEGIN:VEVENT

UID:1b99dd571058085f0d2bcbaa4ba025f3

DTSTAMP:20260422T083126Z

DTSTART:20260418T114500

DTEND:20260418T120000

SUMMARY:R4166627 - 56 Station View Street, MITCHELTON QLD 4053

LOCATION:56 Station View Street, MITCHELTON QLD 4053

END:VEVENT

END:VCALENDAR